BEGIN:VCALENDAR
VERSION:2.0
PRODID:-//Ergologia - ECPv6.15.20//NONSGML v1.0//EN
CALSCALE:GREGORIAN
METHOD:PUBLISH
X-ORIGINAL-URL:https://ergologia.org
X-WR-CALDESC:Évènements pour Ergologia
REFRESH-INTERVAL;VALUE=DURATION:PT1H
X-Robots-Tag:noindex
X-PUBLISHED-TTL:PT1H
BEGIN:VTIMEZONE
TZID:UTC
BEGIN:STANDARD
TZOFFSETFROM:+0000
TZOFFSETTO:+0000
TZNAME:UTC
DTSTART:20250101T000000
END:STANDARD
END:VTIMEZONE
BEGIN:VEVENT
DTSTART;TZID=UTC:20260522T093000
DTEND;TZID=UTC:20260522T123000
DTSTAMP:20260423T174405
CREATED:20260218T152232Z
LAST-MODIFIED:20260218T152232Z
UID:2417-1779442200-1779453000@ergologia.org
SUMMARY:Intervention d'Yves Schwartz
DESCRIPTION:Master Intervention Conseil\, Développement des compétences (IC DC) \nCNAM\, 41 rue Gay Lussac\, 75 005 Paris : \n20/02\, 14-17h \n20/03\, 9h30-12h30 \n03/04\, 9h30-12h30 \n17/04\, 9h30- 12h30 \n22/05\, 9h30-12h30
URL:https://ergologia.org/event/intervention-dyves-schwartz-5/
END:VEVENT
END:VCALENDAR