BEGIN:VCALENDAR
VERSION:2.0
PRODID:-//Ergologia - ECPv6.15.20//NONSGML v1.0//EN
CALSCALE:GREGORIAN
METHOD:PUBLISH
X-ORIGINAL-URL:https://ergologia.org
X-WR-CALDESC:Évènements pour Ergologia
REFRESH-INTERVAL;VALUE=DURATION:PT1H
X-Robots-Tag:noindex
X-PUBLISHED-TTL:PT1H
BEGIN:VTIMEZONE
TZID:UTC
BEGIN:STANDARD
TZOFFSETFROM:+0000
TZOFFSETTO:+0000
TZNAME:UTC
DTSTART:20240101T000000
END:STANDARD
END:VTIMEZONE
BEGIN:VTIMEZONE
TZID:Europe/Helsinki
BEGIN:DAYLIGHT
TZOFFSETFROM:+0200
TZOFFSETTO:+0300
TZNAME:EEST
DTSTART:20240331T010000
END:DAYLIGHT
BEGIN:STANDARD
TZOFFSETFROM:+0300
TZOFFSETTO:+0200
TZNAME:EET
DTSTART:20241027T010000
END:STANDARD
BEGIN:DAYLIGHT
TZOFFSETFROM:+0200
TZOFFSETTO:+0300
TZNAME:EEST
DTSTART:20250330T010000
END:DAYLIGHT
BEGIN:STANDARD
TZOFFSETFROM:+0300
TZOFFSETTO:+0200
TZNAME:EET
DTSTART:20251026T010000
END:STANDARD
BEGIN:DAYLIGHT
TZOFFSETFROM:+0200
TZOFFSETTO:+0300
TZNAME:EEST
DTSTART:20260329T010000
END:DAYLIGHT
BEGIN:STANDARD
TZOFFSETFROM:+0300
TZOFFSETTO:+0200
TZNAME:EET
DTSTART:20261025T010000
END:STANDARD
END:VTIMEZONE
BEGIN:VEVENT
DTSTART;VALUE=DATE:20251001
DTEND;VALUE=DATE:20251002
DTSTAMP:20260425T142325
CREATED:20250722T123552Z
LAST-MODIFIED:20250722T123552Z
UID:2006-1759276800-1759363199@ergologia.org
SUMMARY:Journée d’étude : Placer l’activité au cœur de l’attractivité du travail
DESCRIPTION:Mercredi 1ᵉʳ octobre 2025\nCNAM\, rue Gay Lussac\, Paris\nComité d’organisation : Justine Arnoud\, Pascal Ughetto\, Fabien Coutarel\, Nadia Heddad\, Laurent Van Belleghem\nPlus d’infos : https://journals.openedition.org/activites/11072
URL:https://ergologia.org/event/journee-detude-placer-lactivite-au-coeur-de-lattractivite-du-travail/
END:VEVENT
BEGIN:VEVENT
DTSTART;VALUE=DATE:20251011
DTEND;VALUE=DATE:20251012
DTSTAMP:20260425T142325
CREATED:20250722T093914Z
LAST-MODIFIED:20250926T194430Z
UID:1991-1760140800-1760227199@ergologia.org
SUMMARY:Journée de mémoire et d’hommage à Renato Di Ruzza
DESCRIPTION:La Société Internationale d’Ergologie (SIE) organise le 11 octobre prochain à Aix Marseille Université une journée en souvenir et en hommage à Renato di Ruzza. \nContacts : \nRémy Jean remy.jean1@sfr.fr \nYves Schwartz y.schwartz@wanadoo.fr \nPour accéder au programme\, cliquez ici. \nCliquez ici pour plus d’info
URL:https://ergologia.org/event/journee-de-memoire-et-dhommage-a-renato-di-ruzza/
LOCATION:Aix Marseille Université\, France
ATTACH;FMTTYPE=image/jpeg:https://ergologia.org/wp-content/uploads/2025/03/DiRuzza2.jpg
END:VEVENT
END:VCALENDAR