BEGIN:VCALENDAR
VERSION:2.0
PRODID:-//Ergologia - ECPv6.15.20//NONSGML v1.0//EN
CALSCALE:GREGORIAN
METHOD:PUBLISH
X-WR-CALNAME:Ergologia
X-ORIGINAL-URL:https://ergologia.org
X-WR-CALDESC:Évènements pour Ergologia
REFRESH-INTERVAL;VALUE=DURATION:PT1H
X-Robots-Tag:noindex
X-PUBLISHED-TTL:PT1H
BEGIN:VTIMEZONE
TZID:UTC
BEGIN:STANDARD
TZOFFSETFROM:+0000
TZOFFSETTO:+0000
TZNAME:UTC
DTSTART:20250101T000000
END:STANDARD
END:VTIMEZONE
BEGIN:VTIMEZONE
TZID:Europe/Paris
BEGIN:DAYLIGHT
TZOFFSETFROM:+0100
TZOFFSETTO:+0200
TZNAME:CEST
DTSTART:20250330T010000
END:DAYLIGHT
BEGIN:STANDARD
TZOFFSETFROM:+0200
TZOFFSETTO:+0100
TZNAME:CET
DTSTART:20251026T010000
END:STANDARD
BEGIN:DAYLIGHT
TZOFFSETFROM:+0100
TZOFFSETTO:+0200
TZNAME:CEST
DTSTART:20260329T010000
END:DAYLIGHT
BEGIN:STANDARD
TZOFFSETFROM:+0200
TZOFFSETTO:+0100
TZNAME:CET
DTSTART:20261025T010000
END:STANDARD
BEGIN:DAYLIGHT
TZOFFSETFROM:+0100
TZOFFSETTO:+0200
TZNAME:CEST
DTSTART:20270328T010000
END:DAYLIGHT
BEGIN:STANDARD
TZOFFSETFROM:+0200
TZOFFSETTO:+0100
TZNAME:CET
DTSTART:20271031T010000
END:STANDARD
END:VTIMEZONE
BEGIN:VEVENT
DTSTART;TZID=UTC:20260522T093000
DTEND;TZID=UTC:20260522T123000
DTSTAMP:20260423T115957
CREATED:20260218T152232Z
LAST-MODIFIED:20260218T152232Z
UID:2417-1779442200-1779453000@ergologia.org
SUMMARY:Intervention d'Yves Schwartz
DESCRIPTION:Master Intervention Conseil\, Développement des compétences (IC DC) \nCNAM\, 41 rue Gay Lussac\, 75 005 Paris : \n20/02\, 14-17h \n20/03\, 9h30-12h30 \n03/04\, 9h30-12h30 \n17/04\, 9h30- 12h30 \n22/05\, 9h30-12h30
URL:https://ergologia.org/event/intervention-dyves-schwartz-5/
END:VEVENT
BEGIN:VEVENT
DTSTART;VALUE=DATE:20260604
DTEND;VALUE=DATE:20260607
DTSTAMP:20260423T115957
CREATED:20251130T142257Z
LAST-MODIFIED:20260327T140853Z
UID:2233-1780531200-1780790399@ergologia.org
SUMMARY:7ème Congrès de la SIE
DESCRIPTION:Le 7ème Congrès de la SIE se tiendra les 4\,5 et 6 juin 2026 au CNAM Paris avec comme sujet : \nLes « dialogues » dans le travail et la vie des sociétés : la démocratie à refonder ? L’Homme Producteur\, quarante ans après. \nLisez l’appel à communications ici. \nSuivez les nouvelles à https://ergologia.org/7emecongres/ \nPartenariat: \n \n 
URL:https://ergologia.org/event/7eme-congres-de-la-sie/
END:VEVENT
BEGIN:VEVENT
DTSTART;VALUE=DATE:20261026
DTEND;VALUE=DATE:20261031
DTSTAMP:20260423T115957
CREATED:20260218T152904Z
LAST-MODIFIED:20260218T152904Z
UID:2419-1792972800-1793404799@ergologia.org
SUMMARY:2è Rencontres du Cercle de Réflexions autour de Marx
DESCRIPTION:26-30 /10/ 2026 \n« les 2è Rencontres du Cercle de Réflexions autour de Marx. Depuis l’Afrique : Regards sur le travail\, l’exploitation\, l’extraversion\, avec Samir Amin et Karl Marx » \nYves Schwartz fera la proposition de conférence inaugurale. \nOrganisatrice : Fatima Doumbia. \nLieu: Abidjan\, Côte d’Ivoire
URL:https://ergologia.org/event/2e-rencontres-du-cercle-de-reflexions-autour-de-marx/
END:VEVENT
END:VCALENDAR