BEGIN:VCALENDAR
VERSION:2.0
PRODID:-//Ergologia - ECPv6.15.20//NONSGML v1.0//EN
CALSCALE:GREGORIAN
METHOD:PUBLISH
X-WR-CALNAME:Ergologia
X-ORIGINAL-URL:https://ergologia.org
X-WR-CALDESC:Évènements pour Ergologia
REFRESH-INTERVAL;VALUE=DURATION:PT1H
X-Robots-Tag:noindex
X-PUBLISHED-TTL:PT1H
BEGIN:VTIMEZONE
TZID:Europe/Paris
BEGIN:DAYLIGHT
TZOFFSETFROM:+0100
TZOFFSETTO:+0200
TZNAME:CEST
DTSTART:20250330T010000
END:DAYLIGHT
BEGIN:STANDARD
TZOFFSETFROM:+0200
TZOFFSETTO:+0100
TZNAME:CET
DTSTART:20251026T010000
END:STANDARD
BEGIN:DAYLIGHT
TZOFFSETFROM:+0100
TZOFFSETTO:+0200
TZNAME:CEST
DTSTART:20260329T010000
END:DAYLIGHT
BEGIN:STANDARD
TZOFFSETFROM:+0200
TZOFFSETTO:+0100
TZNAME:CET
DTSTART:20261025T010000
END:STANDARD
BEGIN:DAYLIGHT
TZOFFSETFROM:+0100
TZOFFSETTO:+0200
TZNAME:CEST
DTSTART:20270328T010000
END:DAYLIGHT
BEGIN:STANDARD
TZOFFSETFROM:+0200
TZOFFSETTO:+0100
TZNAME:CET
DTSTART:20271031T010000
END:STANDARD
END:VTIMEZONE
BEGIN:VEVENT
DTSTART;VALUE=DATE:20260123
DTEND;VALUE=DATE:20260124
DTSTAMP:20260425T111515
CREATED:20260120T130639Z
LAST-MODIFIED:20260120T130639Z
UID:2380-1769126400-1769212799@ergologia.org
SUMMARY:Journée jeunes chercheur.euse.s: Utopie(s) : réinventer le travail
DESCRIPTION:Utopie(s) : réinventer le travail\n\n\nJournée jeunes chercheur.euse.s organisée par les laboratoires CRTD\, Lise (Cnam) et Sophiapol (UPN) \nLe vendredi 23 janvier 2026 au Cnam Paris (site Gay Lussac) \nComité d’organisation (CRTD) : Valeria Schiavone\, Grégory Mykolow\, Aurélien Appéré\, Ferdinand Valgalier\, Maxime Depetris. \nÀ l’ère du capitalocène et de l’avènement du néolibéralisme se pose la question de la possibilité d’une autre manière de vivre\, de produire\, de penser et de faire société. Dans ce contexte\, l’utopie se présente comme un foyer de refonte de monde(s) commun(s)\, à condition de l’entendre moins comme un idéal théorique que comme un effort de travail concret tendu vers des alternatives prenant en compte la complexité du réel dans lequel elles s’inscrivent. Le travail en tant qu’institution\, système de production\, forme de vie ou bien activité\, qu’il soit rémunéré ou non\, est parfois délaissé par des imaginaires qui investissent plutôt les terrains de l’innovation technique\, de l’emploi ou du hors-travail. Mais\, alors même que le travail apparaît d’abord comme un lieu de reproduction matérielle et sociale du capitalisme\, des alternatives utopistes peuvent-elles s’y construire et\, si oui\, comment ? \n\nPlus d’info: https://travailformation.hypotheses.org/22623 \nOpenEdition vous propose de citer ce billet de la manière suivante :\nRédaction (8 janvier 2026). Utopie(s) : réinventer le travail. Travail et formation. Consulté le 19 janvier 2026 à l’adresse https://doi.org/10.58079/15gty
URL:https://ergologia.org/event/journee-jeunes-chercheur-euse-s-utopies-reinventer-le-travail/
LOCATION:Cnam 41\, rue Gay Lussac 75005 Paris amphithéâtre du RDC
END:VEVENT
END:VCALENDAR