BEGIN:VCALENDAR
VERSION:2.0
PRODID:-//Ergologia - ECPv6.15.20//NONSGML v1.0//EN
CALSCALE:GREGORIAN
METHOD:PUBLISH
X-WR-CALNAME:Ergologia
X-ORIGINAL-URL:https://ergologia.org
X-WR-CALDESC:Évènements pour Ergologia
REFRESH-INTERVAL;VALUE=DURATION:PT1H
X-Robots-Tag:noindex
X-PUBLISHED-TTL:PT1H
BEGIN:VTIMEZONE
TZID:Europe/Paris
BEGIN:DAYLIGHT
TZOFFSETFROM:+0100
TZOFFSETTO:+0200
TZNAME:CEST
DTSTART:20240331T010000
END:DAYLIGHT
BEGIN:STANDARD
TZOFFSETFROM:+0200
TZOFFSETTO:+0100
TZNAME:CET
DTSTART:20241027T010000
END:STANDARD
BEGIN:DAYLIGHT
TZOFFSETFROM:+0100
TZOFFSETTO:+0200
TZNAME:CEST
DTSTART:20250330T010000
END:DAYLIGHT
BEGIN:STANDARD
TZOFFSETFROM:+0200
TZOFFSETTO:+0100
TZNAME:CET
DTSTART:20251026T010000
END:STANDARD
BEGIN:DAYLIGHT
TZOFFSETFROM:+0100
TZOFFSETTO:+0200
TZNAME:CEST
DTSTART:20260329T010000
END:DAYLIGHT
BEGIN:STANDARD
TZOFFSETFROM:+0200
TZOFFSETTO:+0100
TZNAME:CET
DTSTART:20261025T010000
END:STANDARD
END:VTIMEZONE
BEGIN:VEVENT
DTSTART;TZID=Europe/Paris:20251211T090000
DTEND;TZID=Europe/Paris:20251211T173000
DTSTAMP:20260425T125716
CREATED:20251127T224027Z
LAST-MODIFIED:20251127T224027Z
UID:2212-1765443600-1765474200@ergologia.org
SUMMARY:Droit du travail et ergologie : regards croisés sur l’engagement du corps et de l’esprit au travail
DESCRIPTION:On a le plaisir de vous transmettre le programme détaillé de la journée d’étude « Droit du travail et ergologie : regards croisés sur l’engagement du corps et de l’esprit au travail »\, qui se tiendra le 11 décembre 2025\, de 9h à 17h30\, en salle 3.3 (Cassin) à Aix-Marseille Université.\n\nCette journée constitue une étape importante pour la continuité et la visibilité de la présence ergologique à AMU\, notamment grâce au maintien du cycle d’initiation à la démarche ergologique auprès des étudiant·es de Master 1 Droit social. Elle s’inscrit également dans la dynamique de travail engagée avec les équipes du CDS depuis l’an dernier.\n\nL’inscription est obligatoire avant le 8 décembre par mail à lydie.benaroche@univ-amu.fr pour les enseignants-chercheurs et les participant·es extérieurs. Nombre de places limité.\nPlus d’informations cliquez ici. \nProgramme \n8h45 Accueil café \n9h15 Ouverture des travaux Colloque sous la présidence d’Alexis BUGADA\, Professeur\, Aix Marseille Université \n9h30 – 12h Dialogue autour des méthodes d’analyse du travail et du droit \n\nIntroduction à la démarche ergologique – Christine MARTIN\, Chercheuse associée au CRTD\, docteure en ergologie\nLa méthode et les normes juridiques du travail – Olivier ANDRÉ\, Maître de conférences en droit privé\, Aix Marseille Université\nDe l’ergologie à l’ergo-management : méthodes d’analyse et transformation de l’activité de travail – Ingrid DROMARD\, Docteure en philosophie\, Directrice de services médicaux sociaux\n\n12h00 – 13h30 Déjeuner libre \n13h30 – 15h00 Reconnaître la souffrance au travail : un dialogue entre droit et ergologie  \n\nLes critères juridiques du harcèlement face à la complexité du travail réel – Olivier ANDRÉ\, Maître de conférences en droit privé\, Aix Marseille Université\nL’évaluation et la réparation du préjudice dans le cas du harcèlement – Amor BEN SAID\, Docteur en droit privé\, Aix Marseille Université\nPrincipe de prévention et difficulté de la preuve du harcèlement – Emma ZERILLO\, Docteure en droit privé qualifiée\nCNU\, Aix Marseille Université\nQuand l’activité devient impossible : lecture ergologique de situations de harcèlement – Jean RÉMY\, Docteur en sociologie\, président de la Société Internationale d’Ergologie et Luc JUSTET\, ancien Inspecteur du travail\, formateur en droit du travail et enseignant à Aix Marseille Université\n\n15h00 Un medium commun pour saisir l’objet « travail » Table ronde et réflexions sur la Bande dessinée : Travailler demain \n\nLes figures du travailleur dans la bande dessinée – Alexis BUGADA\, Professeur\, Aix Marseille Université\nLe regard des étudiants du Master « Droit des relations de travail et de la protection sociale » Échanges libres\n\n17h30 Conclusion des travaux – Alexis BUGADA\, Professeur\, Aix Marseille Université
URL:https://ergologia.org/event/droit-du-travail-et-ergologie-regards-croises-sur-lengagement-du-corps-et-de-lesprit-au-travail/
LOCATION:Aix Marseille Université\, France
END:VEVENT
END:VCALENDAR