BEGIN:VCALENDAR
VERSION:2.0
PRODID:-//Ergologia - ECPv6.15.20//NONSGML v1.0//EN
CALSCALE:GREGORIAN
METHOD:PUBLISH
X-WR-CALNAME:Ergologia
X-ORIGINAL-URL:https://ergologia.org
X-WR-CALDESC:Évènements pour Ergologia
REFRESH-INTERVAL;VALUE=DURATION:PT1H
X-Robots-Tag:noindex
X-PUBLISHED-TTL:PT1H
BEGIN:VTIMEZONE
TZID:UTC
BEGIN:STANDARD
TZOFFSETFROM:+0000
TZOFFSETTO:+0000
TZNAME:UTC
DTSTART:20240101T000000
END:STANDARD
END:VTIMEZONE
BEGIN:VEVENT
DTSTART;TZID=UTC:20250918T180000
DTEND;TZID=UTC:20250918T200000
DTSTAMP:20260425T171759
CREATED:20250907T171937Z
LAST-MODIFIED:20250907T172059Z
UID:2154-1758218400-1758225600@ergologia.org
SUMMARY:Anim'Ergo Conférence - Débat avec Yves Schwartz
DESCRIPTION:En cette période de rentrée\, nous vous invitons à notre conférence-débat le Jeudi 18 septembre à 18h en ligne\, avec comme invité Yves Schwartz.\n\nNous échangerons sur son parcours intellectuel et sur son engagement dans la fondation et le développement de la démarche ergologique\, à l’occasion de la sortie prochaine de son dernier ouvrage « Usage de soi\, vie et valeur ».\n\n Le lien est ici : https://univ-tlse2.zoom.us/j/96195000926?pwd=NmVGT01BemRNcUgwVVIzQUdwTHZOUT09\nID de réunion: 961 9500 0926\nCode secret: 893700\n\nEn vous souhaitant nombreuses et nombreux pour continuer ou engager le dialogue\,\n\nPour le collectif Anim’Ergologie
URL:https://ergologia.org/event/animergo-conference-debat-avec-yves-schwartz/
LOCATION:Online
ATTACH;FMTTYPE=image/jpeg:https://ergologia.org/wp-content/uploads/2025/09/18-septembre-2025-Conferece-debat-avec-Yves-Schwartz.jpg
END:VEVENT
END:VCALENDAR