BEGIN:VCALENDAR
VERSION:2.0
PRODID:-//Ergologia - ECPv6.15.20//NONSGML v1.0//EN
CALSCALE:GREGORIAN
METHOD:PUBLISH
X-WR-CALNAME:Ergologia
X-ORIGINAL-URL:https://ergologia.org
X-WR-CALDESC:Évènements pour Ergologia
REFRESH-INTERVAL;VALUE=DURATION:PT1H
X-Robots-Tag:noindex
X-PUBLISHED-TTL:PT1H
BEGIN:VTIMEZONE
TZID:UTC
BEGIN:STANDARD
TZOFFSETFROM:+0000
TZOFFSETTO:+0000
TZNAME:UTC
DTSTART:20240101T000000
END:STANDARD
END:VTIMEZONE
BEGIN:VEVENT
DTSTART;TZID=UTC:20250909T183000
DTEND;TZID=UTC:20250909T194500
DTSTAMP:20260425T172511
CREATED:20250722T123114Z
LAST-MODIFIED:20250722T123627Z
UID:2001-1757442600-1757447100@ergologia.org
SUMMARY:Cercle de lecture ergologique 2025
DESCRIPTION:À partir de la conclusion d’Yves Schwartz (« Ergologue : est-ce un métier ? »)\nTous les mardis\, 18h30–19h45 (Zoom) \n\n18 mars 2025\n15 avril 2025\n13 mai 2025\n17 juin 2025\n8 juillet 2025\n9 septembre 2025\n\nPour participer\, écrire à : marcelle.duc@univ-tlse2.fr \nPlus d’informations ici.
URL:https://ergologia.org/event/cercle-de-lecture-ergologique-2025/
END:VEVENT
END:VCALENDAR