BEGIN:VCALENDAR
VERSION:2.0
PRODID:-//Ergologia - ECPv6.15.20//NONSGML v1.0//EN
CALSCALE:GREGORIAN
METHOD:PUBLISH
X-ORIGINAL-URL:https://ergologia.org
X-WR-CALDESC:Évènements pour Ergologia
REFRESH-INTERVAL;VALUE=DURATION:PT1H
X-Robots-Tag:noindex
X-PUBLISHED-TTL:PT1H
BEGIN:VTIMEZONE
TZID:UTC
BEGIN:STANDARD
TZOFFSETFROM:+0000
TZOFFSETTO:+0000
TZNAME:UTC
DTSTART:20240101T000000
END:STANDARD
END:VTIMEZONE
BEGIN:VEVENT
DTSTART;TZID=UTC:20250703T180000
DTEND;TZID=UTC:20250703T200000
DTSTAMP:20260425T203009
CREATED:20250722T123255Z
LAST-MODIFIED:20250722T123255Z
UID:2004-1751565600-1751572800@ergologia.org
SUMMARY:Conférence Débat Anim’ergo
DESCRIPTION:Le dernière conférence débat avant l’été se tiendra le 03 juillet\, nous recevrons Olivier onel Ezin. Olivier a suivi le master d’ergologie en 2024 et fait partie de la dernière promotion à AMU. Il nous partagera ces réflexions issues de son travail de mémoire et de son projet de recherche doctorale sur le travail du point de vue ergologique : objet ou matière étrangère.\n    ”Le travail change\, s’accompagnant de l’air du temps et reste un objet d’étude intéressant à explorer. L’intention ici\, est de reprendre une interrogation de Yves Schwartz :  Le travail pour la philosophie est-il toujours un objet ou une matière étrangère ? La reprise de cette interrogation\, se voudrait être un cadre rassurant pour saisir dans le vif les changements qu’imposent au travail la numérisation et la digitalisation. Nous partirons de l’observation d’une situation de travail particulière\, celle d’un rédacteur-web qui nous permettra d’ancrer notre réflexion dans le réel.” \n\nComme toujours nous nous retrouvons en ligne à 18h pour 2h à l’adresse suivante : https://univ-tlse2.zoom.us/j/96195000926?pwd=NmVGT01BemRNcUgwVVIzQUdwTHZOUT09\nID de réunion : 961 9500 0926\nCode secret: 893700
URL:https://ergologia.org/event/conference-debat-animergo/
ATTACH;FMTTYPE=image/jpeg:https://ergologia.org/wp-content/uploads/2024/03/OIG2.jpeg
END:VEVENT
END:VCALENDAR