BEGIN:VCALENDAR
VERSION:2.0
PRODID:-//Ergologia - ECPv6.15.20//NONSGML v1.0//EN
CALSCALE:GREGORIAN
METHOD:PUBLISH
X-WR-CALNAME:Ergologia
X-ORIGINAL-URL:https://ergologia.org
X-WR-CALDESC:Évènements pour Ergologia
REFRESH-INTERVAL;VALUE=DURATION:PT1H
X-Robots-Tag:noindex
X-PUBLISHED-TTL:PT1H
BEGIN:VTIMEZONE
TZID:UTC
BEGIN:STANDARD
TZOFFSETFROM:+0000
TZOFFSETTO:+0000
TZNAME:UTC
DTSTART:20240101T000000
END:STANDARD
END:VTIMEZONE
BEGIN:VEVENT
DTSTART;VALUE=DATE:20250305
DTEND;VALUE=DATE:20250703
DTSTAMP:20260425T232837
CREATED:20250722T124224Z
LAST-MODIFIED:20250722T124224Z
UID:2012-1741132800-1751500799@ergologia.org
SUMMARY:Cercle de lecture 2024
DESCRIPTION:En cours de lecture un ouvrage paru en 2023 : « L’évaluation ergologique – ce que les chiffres de ne montrent pas » de Ingrid Dromard (Docteur en philosophie\, directrice ADMR 13 Autisme et membre de la Société Internationale d’Ergologie (SIE). Cette problématique de l’évaluation ergologique est menée dans le champ du travail social à partir de la mise en œuvre de Groupes de Rencontres du Travail (GRT) où les professionnels sont invités à réfléchir et à débattre. \nLes 5 dates des séances du cercle de lecture sont les suivantes : \n– Mardi 5 mars 2024\n– Mardi 26 mars\n– Mardi 14 mai\n– Mardi 4 juin\n– Mardi 2 juillet \nLe cercle se déroule en visioconférence (zoom) et de 18h30 à 19h45. Si vous souhaitez participer à ce cercle de lecture\, envoyez un message à contact@ergologia.org
URL:https://ergologia.org/event/cercle-de-lecture-2024/
END:VEVENT
END:VCALENDAR